BEGIN:VCALENDAR
VERSION:2.0
PRODID:-//85.13.133.233//NONSGML kigkonsult.se iCalcreator 2.20//
CALSCALE:GREGORIAN
METHOD:PUBLISH
X-WR-TIMEZONE:America/Vancouver
BEGIN:VEVENT
UID:event129@Valley BMW Riders - Testsystem
DTSTAMP:20260419T200100Z
CATEGORIES:AGM & other meetings
DESCRIPTION:VBMWR Summer Barbecue\nCategory: AGM & other meetings\nLink: ht
 tps://valleyriders.altersack.eu/index.php?option=com_jem&view=event&id=129
 :vbmwr-summer-barbecue\n
DTSTART;TZID=America/Vancouver:20260627T123000
DTEND;TZID=America/Vancouver:20260627T163000
LOCATION:Kin Beach Park - Picnic Pavilion\,7248 Tronson Road\,V1B 2H8 Verno
 n
SUMMARY:VBMWR Summer Barbecue
URL:https://valleyriders.altersack.eu/index.php?option=com_jem&view=event&i
 d=129:vbmwr-summer-barbecue
END:VEVENT
END:VCALENDAR