BEGIN:VCALENDAR
VERSION:2.0
PRODID:-//85.13.133.233//NONSGML kigkonsult.se iCalcreator 2.20//
CALSCALE:GREGORIAN
METHOD:PUBLISH
X-WR-TIMEZONE:America/Vancouver
BEGIN:VEVENT
UID:event121@Valley BMW Riders - Testsystem
DTSTAMP:20260419T202216Z
CATEGORIES:AGM & other meetings
DESCRIPTION:AGM - Winter Breakout - Potluck Luncheon\nCategory: AGM & other
  meetings\nLink: https://valleyriders.altersack.eu/index.php?option=com_je
 m&view=event&id=121:agm-winter-breakout-potluck-luncheon\n
DTSTART;TZID=America/Vancouver:20260307T110000
DTEND;TZID=America/Vancouver:20260307T150000
LOCATION:Okanagan Center Community Hall\,11099 Maddock Avenue\,V4V 2J4 Okan
 agan Centre
SUMMARY:AGM - Winter Breakout - Potluck Luncheon
URL:https://valleyriders.altersack.eu/index.php?option=com_jem&view=event&i
 d=121:agm-winter-breakout-potluck-luncheon
END:VEVENT
END:VCALENDAR