BEGIN:VCALENDAR
VERSION:2.0
PRODID:-//85.13.133.233//NONSGML kigkonsult.se iCalcreator 2.20//
CALSCALE:GREGORIAN
METHOD:PUBLISH
X-WR-TIMEZONE:America/Vancouver
BEGIN:VEVENT
UID:event130@Valley BMW Riders - Testsystem
DTSTAMP:20260420T002938Z
CATEGORIES:Breakfast
DESCRIPTION:July Breakfast Ride - The Flealess Hound Pub - Oliver\nCategory
 : Breakfast\nLink: https://valleyriders.altersack.eu/index.php?option=com_
 jem&view=event&id=130:july-breakfast-ride-the-flealess-hound-pub-oliver\n
DTSTART;TZID=America/Vancouver:20260726T100000
DTEND;TZID=America/Vancouver:20260726T100000
LOCATION:The Flealess Hound Pub\,8380 Gallagher Lake Frontage Road\,V0H 1T2
  Oliver
SUMMARY:July Breakfast Ride - The Flealess Hound Pub - Oliver
URL:https://valleyriders.altersack.eu/index.php?option=com_jem&view=event&i
 d=130:july-breakfast-ride-the-flealess-hound-pub-oliver
END:VEVENT
END:VCALENDAR