BEGIN:VCALENDAR
VERSION:2.0
PRODID:-//85.13.133.233//NONSGML kigkonsult.se iCalcreator 2.20//
CALSCALE:GREGORIAN
METHOD:PUBLISH
X-WR-TIMEZONE:America/Vancouver
BEGIN:VEVENT
UID:event127@Valley BMW Riders - Testsystem
DTSTAMP:20260420T002820Z
CATEGORIES:Campouts
DESCRIPTION:Last Chance Camp-N-Ride - Oliver BC\nCategory: Campouts\nLink: 
 https://valleyriders.altersack.eu/index.php?option=com_jem&view=event&id=1
 27:last-chance-camp-n-ride-oliver-bc\n
DTSTART;VALUE=DATE:20261001
DTEND;VALUE=DATE:20261005
LOCATION:The Lakeside Resort\,6707 Lakeside Drive\,V0H 1T0 Oliver
SUMMARY:Last Chance Camp-N-Ride - Oliver BC
URL:https://valleyriders.altersack.eu/index.php?option=com_jem&view=event&i
 d=127:last-chance-camp-n-ride-oliver-bc
END:VEVENT
END:VCALENDAR