BEGIN:VCALENDAR
VERSION:2.0
PRODID:-//85.13.133.233//NONSGML kigkonsult.se iCalcreator 2.20//
CALSCALE:GREGORIAN
METHOD:PUBLISH
X-WR-TIMEZONE:America/Vancouver
BEGIN:VEVENT
UID:event126@Valley BMW Riders - Testsystem
DTSTAMP:20260420T002531Z
CATEGORIES:Breakfast
DESCRIPTION:Sept Breakfast Ride - Eagle Point Golf Course\nCategory: Breakf
 ast\nLink: https://valleyriders.altersack.eu/index.php?option=com_jem&view
 =event&id=126:sept-breakfast-ride-eagle-point-golf-course\n
DTSTART;TZID=America/Vancouver:20260927T100000
DTEND;TZID=America/Vancouver:20260927T120000
LOCATION:Eaglewood Restaurant & Bar\,8888 Barnhartvale Road\,V2C 6W1 Kamloo
 ps
SUMMARY:Sept Breakfast Ride - Eagle Point Golf Course
URL:https://valleyriders.altersack.eu/index.php?option=com_jem&view=event&i
 d=126:sept-breakfast-ride-eagle-point-golf-course
END:VEVENT
END:VCALENDAR