BEGIN:VCALENDAR
VERSION:2.0
PRODID:-//85.13.133.233//NONSGML kigkonsult.se iCalcreator 2.20//
CALSCALE:GREGORIAN
METHOD:PUBLISH
X-WR-TIMEZONE:America/Vancouver
BEGIN:VEVENT
UID:event124@Valley BMW Riders - Testsystem
DTSTAMP:20260420T043308Z
CATEGORIES:Campouts
DESCRIPTION:Kaslo Camp-N-Ride\nCategory: Campouts\nLink: https://valleyride
 rs.altersack.eu/index.php?option=com_jem&view=event&id=124:kaslo-camp-n-ri
 de\n
DTSTART;VALUE=DATE:20260807
DTEND;VALUE=DATE:20260811
LOCATION:Kaslo Municipal Campground\,Foot of A Ave\,V0G 1M0 Kaslo
SUMMARY:Kaslo Camp-N-Ride
URL:https://valleyriders.altersack.eu/index.php?option=com_jem&view=event&i
 d=124:kaslo-camp-n-ride
END:VEVENT
END:VCALENDAR