BEGIN:VCALENDAR
VERSION:2.0
PRODID:-//85.13.133.233//NONSGML kigkonsult.se iCalcreator 2.20//
CALSCALE:GREGORIAN
METHOD:PUBLISH
X-WR-TIMEZONE:America/Vancouver
BEGIN:VEVENT
UID:event125@Valley BMW Riders - Testsystem
DTSTAMP:20260420T010732Z
CATEGORIES:Campouts
DESCRIPTION:Midway Camp-N-Ride\nCategory: Campouts\nLink: https://valleyrid
 ers.altersack.eu/index.php?option=com_jem&view=event&id=125:midway-camp-n-
 ride\n
DTSTART;VALUE=DATE:20260903
DTEND;VALUE=DATE:20260907
LOCATION:Midway Waterfront Park\,see description\,V0H 1M0 Midway
SUMMARY:Midway Camp-N-Ride
URL:https://valleyriders.altersack.eu/index.php?option=com_jem&view=event&i
 d=125:midway-camp-n-ride
END:VEVENT
END:VCALENDAR