BEGIN:VCALENDAR
VERSION:2.0
PRODID:-//85.13.133.233//NONSGML kigkonsult.se iCalcreator 2.20//
CALSCALE:GREGORIAN
METHOD:PUBLISH
X-WR-TIMEZONE:America/Vancouver
BEGIN:VEVENT
UID:event128@Valley BMW Riders - Testsystem
DTSTAMP:20260420T052934Z
CATEGORIES:Breakfast
DESCRIPTION:August Breakfast Ride -  Second Home Café - Summerland\nCategor
 y: Breakfast\nLink: https://valleyriders.altersack.eu/index.php?option=com
 _jem&view=event&id=128:aug-breakfast-ride-second-home-cafe-summerland\n
DTSTART;TZID=America/Vancouver:20260823T100000
DTEND;TZID=America/Vancouver:20260823T120000
LOCATION:Second Home Cafe & Grill\,13229 Henry Road\,V0H 1Z0 Summerland
SUMMARY:August Breakfast Ride -  Second Home Café - Summerland
URL:https://valleyriders.altersack.eu/index.php?option=com_jem&view=event&i
 d=128:aug-breakfast-ride-second-home-cafe-summerland
END:VEVENT
END:VCALENDAR